BEGIN:VCALENDAR
VERSION:2.0
PRODID:SchoolNow
CALSCALE:GREGORIAN
BEGIN:VEVENT
UID:c82a6f26-085a-11f0-a0c6-0240bc33460b
DTSTAMP:20251216T214628Z
SUMMARY:Early Release Wednesday: 2:10 Dismissal
URL;VALUE=URI:https://www.rsu16.org/ess/calendar/7757807/early-release-wedn
 esday-2-10-dismissal
DTSTART;VALUE=DATE:20261111
DTEND;VALUE=DATE:20261112
END:VEVENT
END:VCALENDAR
