BEGIN:VCALENDAR
VERSION:2.0
PRODID:SchoolNow
CALSCALE:GREGORIAN
BEGIN:VEVENT
UID:c82a71f6-085a-11f0-835e-0240bc33460b
DTSTAMP:20251216T214628Z
SUMMARY:Early Release Wednesday: 2:10 Dismissal
URL;VALUE=URI:https://www.rsu16.org/ess/calendar/7757808/early-release-wedn
 esday-2-10-dismissal
DTSTART;VALUE=DATE:20261118
DTEND;VALUE=DATE:20261119
END:VEVENT
END:VCALENDAR
