BEGIN:VCALENDAR
VERSION:2.0
PRODID:SchoolNow
CALSCALE:GREGORIAN
BEGIN:VEVENT
UID:d21119c4-1b13-11f0-8495-0affd4b2a825
DTSTAMP:20251216T214628Z
SUMMARY:Early Release Wednesday: 2:10 Dismissal
URL;VALUE=URI:https://www.rsu16.org/ess/calendar/7941215/early-release-wedn
 esday-2-10-dismissal
DTSTART;VALUE=DATE:20261125
DTEND;VALUE=DATE:20261126
END:VEVENT
END:VCALENDAR
