BEGIN:VCALENDAR
VERSION:2.0
PRODID:SchoolNow
CALSCALE:GREGORIAN
BEGIN:VEVENT
UID:d2111d5c-1b13-11f0-9937-0affd4b2a825
DTSTAMP:20251216T214628Z
SUMMARY:Early Release Wednesday: 2:10 Dismissal
URL;VALUE=URI:https://www.rsu16.org/ess/calendar/7941216/early-release-wedn
 esday-2-10-dismissal
DTSTART;VALUE=DATE:20261202
DTEND;VALUE=DATE:20261203
END:VEVENT
END:VCALENDAR
