BEGIN:VCALENDAR
VERSION:2.0
PRODID:SchoolNow
CALSCALE:GREGORIAN
BEGIN:VEVENT
UID:667311f2-72ea-11f0-beb7-0a58a9feac02
DTSTAMP:20251216T214628Z
SUMMARY:Picture Day!
URL;VALUE=URI:https://www.rsu16.org/ess/calendar/8476588/picture-day
DTSTART;VALUE=DATE:20250916
DTEND;VALUE=DATE:20250917
END:VEVENT
END:VCALENDAR
