BEGIN:VCALENDAR
VERSION:2.0
PRODID:SchoolNow
CALSCALE:GREGORIAN
BEGIN:VEVENT
UID:6673153a-72ea-11f0-82bc-0a58a9feac02
DTSTAMP:20251216T214628Z
SUMMARY:Second chance picture day!
URL;VALUE=URI:https://www.rsu16.org/ess/calendar/8476589/second-chance-pict
 ure-day
DTSTART;VALUE=DATE:20251014
DTEND;VALUE=DATE:20251015
END:VEVENT
END:VCALENDAR
