BEGIN:VCALENDAR
VERSION:2.0
PRODID:SchoolNow
CALSCALE:GREGORIAN
BEGIN:VEVENT
UID:66731684-72ea-11f0-aead-0a58a9feac02
DTSTAMP:20251216T214628Z
SUMMARY:Fire Prevention Day at ESS
URL;VALUE=URI:https://www.rsu16.org/ess/calendar/8476590/fire-prevention-da
 y-at-ess
DTSTART;VALUE=DATE:20251009
DTEND;VALUE=DATE:20251010
END:VEVENT
END:VCALENDAR
