BEGIN:VCALENDAR
VERSION:2.0
PRODID:SchoolNow
CALSCALE:GREGORIAN
BEGIN:VEVENT
UID:6673219c-72ea-11f0-b469-0a58a9feac02
DTSTAMP:20251216T214628Z
SUMMARY:Early Release Wednesday: 2:10 Dismissal
URL;VALUE=URI:https://www.rsu16.org/ess/calendar/8476594/early-release-wedn
 esday-2-10-dismissal
DTSTART;VALUE=DATE:20270113
DTEND;VALUE=DATE:20270114
END:VEVENT
END:VCALENDAR
