BEGIN:VCALENDAR
VERSION:2.0
PRODID:SchoolNow
CALSCALE:GREGORIAN
BEGIN:VEVENT
UID:6673235e-72ea-11f0-834c-0a58a9feac02
DTSTAMP:20251216T214628Z
SUMMARY:Early Release Wednesday: 2:10 Dismissal
URL;VALUE=URI:https://www.rsu16.org/ess/calendar/8476596/early-release-wedn
 esday-2-10-dismissal
DTSTART;VALUE=DATE:20270127
DTEND;VALUE=DATE:20270128
END:VEVENT
END:VCALENDAR
