BEGIN:VCALENDAR
VERSION:2.0
PRODID:SchoolNow
CALSCALE:GREGORIAN
BEGIN:VEVENT
UID:669bd63c-72ea-11f0-a538-0a58a9feac02
DTSTAMP:20251216T214628Z
SUMMARY:Early Release Wednesday: 2:10 Dismissal
URL;VALUE=URI:https://www.rsu16.org/ess/calendar/8476602/early-release-wedn
 esday-2-10-dismissal
DTSTART;VALUE=DATE:20270303
DTEND;VALUE=DATE:20270304
END:VEVENT
END:VCALENDAR
