BEGIN:VCALENDAR
VERSION:2.0
PRODID:SchoolNow
CALSCALE:GREGORIAN
BEGIN:VEVENT
UID:669bd920-72ea-11f0-83c6-0a58a9feac02
DTSTAMP:20251216T214628Z
SUMMARY:Early Release Wednesday: 2:10 Dismissal
URL;VALUE=URI:https://www.rsu16.org/ess/calendar/8476605/early-release-wedn
 esday-2-10-dismissal
DTSTART;VALUE=DATE:20270324
DTEND;VALUE=DATE:20270325
END:VEVENT
END:VCALENDAR
