BEGIN:VCALENDAR
VERSION:2.0
PRODID:SchoolNow
CALSCALE:GREGORIAN
BEGIN:VEVENT
UID:5ebf4b32-731d-11f0-b80d-0a58a9feac02
DTSTAMP:20251216T214628Z
SUMMARY:ESS Open House
URL;VALUE=URI:https://www.rsu16.org/ess/calendar/8477538/ess-open-house
DTSTART:20250825T210000Z
DTEND:20250825T220000Z
END:VEVENT
END:VCALENDAR
