BEGIN:VCALENDAR
VERSION:2.0
PRODID:SchoolNow
CALSCALE:GREGORIAN
BEGIN:VEVENT
UID:a4c39eac-8174-11f0-9e84-0a58a9feac02
DTSTAMP:20251216T214628Z
SUMMARY:Early Release Wednesday: 2:10 Dismissal
URL;VALUE=URI:https://www.rsu16.org/ess/calendar/8539563/early-release-wedn
 esday-2-10-dismissal
DTSTART;VALUE=DATE:20270414
DTEND;VALUE=DATE:20270415
END:VEVENT
END:VCALENDAR
