BEGIN:VCALENDAR
VERSION:2.0
PRODID:SchoolNow
CALSCALE:GREGORIAN
BEGIN:VEVENT
UID:c782af12-8509-11f0-aa23-0a58a9feac02
DTSTAMP:20251216T214628Z
SUMMARY:MTY Testing Window Opens 3-6
URL;VALUE=URI:https://www.rsu16.org/ess/calendar/8558719/mty-testing-window
 -opens-3-6
DTSTART;VALUE=DATE:20250915
DTEND;VALUE=DATE:20251025
END:VEVENT
END:VCALENDAR
