BEGIN:VCALENDAR
VERSION:2.0
PRODID:SchoolNow
CALSCALE:GREGORIAN
BEGIN:VEVENT
UID:c782b250-8509-11f0-b53b-0a58a9feac02
DTSTAMP:20251216T214628Z
SUMMARY:MTY Spring Testing Window Opens
URL;VALUE=URI:https://www.rsu16.org/ess/calendar/8558720/mty-spring-testing
 -window-opens
DTSTART;VALUE=DATE:20260412
DTEND;VALUE=DATE:20260530
END:VEVENT
END:VCALENDAR
