BEGIN:VCALENDAR
VERSION:2.0
PRODID:SchoolNow
CALSCALE:GREGORIAN
BEGIN:VEVENT
UID:c782b390-8509-11f0-829e-0a58a9feac02
DTSTAMP:20251216T214628Z
SUMMARY:MEA Grade 5 Science Testing Window
URL;VALUE=URI:https://www.rsu16.org/ess/calendar/8558721/mea-grade-5-scienc
 e-testing-window
DTSTART;VALUE=DATE:20260511
DTEND;VALUE=DATE:20260523
END:VEVENT
END:VCALENDAR
