BEGIN:VCALENDAR
VERSION:2.0
PRODID:SchoolNow
CALSCALE:GREGORIAN
BEGIN:VEVENT
UID:c7464850-af8f-11f0-a367-0a58a9feac02
DTSTAMP:20251216T214628Z
SUMMARY:CP Annual IEP
URL;VALUE=URI:https://www.rsu16.org/ess/calendar/8743285/cp-annual-iep
DTSTART:20260115T133000Z
DTEND:20260115T143000Z
END:VEVENT
END:VCALENDAR
