BEGIN:VCALENDAR
VERSION:2.0
PRODID:SchoolNow
CALSCALE:GREGORIAN
BEGIN:VEVENT
UID:c7464b5c-af8f-11f0-b82b-0a58a9feac02
DTSTAMP:20251216T214628Z
SUMMARY:MW Annual IEP
URL;VALUE=URI:https://www.rsu16.org/ess/calendar/8743286/mw-annual-iep
DTSTART:20260129T133000Z
DTEND:20260129T143000Z
END:VEVENT
END:VCALENDAR
