BEGIN:VCALENDAR
VERSION:2.0
PRODID:SchoolNow
CALSCALE:GREGORIAN
BEGIN:VEVENT
UID:c7464d50-af8f-11f0-9433-0a58a9feac02
DTSTAMP:20251216T214628Z
SUMMARY:DG- Annual IEP
URL;VALUE=URI:https://www.rsu16.org/ess/calendar/8743287/dg-annual-iep
DTSTART;VALUE=DATE:20260205
DTEND;VALUE=DATE:20260206
END:VEVENT
END:VCALENDAR
