BEGIN:VCALENDAR
VERSION:2.0
PRODID:SchoolNow
CALSCALE:GREGORIAN
BEGIN:VEVENT
UID:c7759c9a-af8f-11f0-ae27-0a58a9feac02
DTSTAMP:20251216T214628Z
SUMMARY:Early Release Wednesday: 2:10 Dismissal
URL;VALUE=URI:https://www.rsu16.org/ess/calendar/8743290/early-release-wedn
 esday-2-10-dismissal
DTSTART;VALUE=DATE:20270512
DTEND;VALUE=DATE:20270513
END:VEVENT
END:VCALENDAR
