BEGIN:VCALENDAR
VERSION:2.0
PRODID:SchoolNow
CALSCALE:GREGORIAN
BEGIN:VEVENT
UID:c7759dee-af8f-11f0-aeec-0a58a9feac02
DTSTAMP:20251216T214628Z
SUMMARY:Early Release Wednesday: 2:10 Dismissal
URL;VALUE=URI:https://www.rsu16.org/ess/calendar/8743291/early-release-wedn
 esday-2-10-dismissal
DTSTART;VALUE=DATE:20270519
DTEND;VALUE=DATE:20270520
END:VEVENT
END:VCALENDAR
