BEGIN:VCALENDAR
VERSION:2.0
PRODID:SchoolNow
CALSCALE:GREGORIAN
BEGIN:VEVENT
UID:c775a06e-af8f-11f0-8dc0-0a58a9feac02
DTSTAMP:20251216T214628Z
SUMMARY:Early Release Wednesday: 2:10 Dismissal
URL;VALUE=URI:https://www.rsu16.org/ess/calendar/8743293/early-release-wedn
 esday-2-10-dismissal
DTSTART;VALUE=DATE:20270602
DTEND;VALUE=DATE:20270603
END:VEVENT
END:VCALENDAR
