BEGIN:VCALENDAR
VERSION:2.0
PRODID:SchoolNow
CALSCALE:GREGORIAN
BEGIN:VEVENT
UID:63f5adc0-b8ec-11f0-b7c4-0a58a9feac02
DTSTAMP:20251216T214628Z
SUMMARY:Early Release Wednesday: 2:10 Dismissal
URL;VALUE=URI:https://www.rsu16.org/ess/calendar/8771278/early-release-wedn
 esday-2-10-dismissal
DTSTART;VALUE=DATE:20270630
DTEND;VALUE=DATE:20270701
END:VEVENT
END:VCALENDAR
