BEGIN:VCALENDAR
VERSION:2.0
PRODID:SchoolNow
CALSCALE:GREGORIAN
BEGIN:VEVENT
UID:437c73c8-bb83-11f0-8c35-0a58a9feac02
DTSTAMP:20251216T214628Z
SUMMARY:Early Release Wednesday: 2:10 Dismissal
URL;VALUE=URI:https://www.rsu16.org/ess/calendar/8782059/early-release-wedn
 esday-2-10-dismissal
DTSTART;VALUE=DATE:20270707
DTEND;VALUE=DATE:20270708
END:VEVENT
END:VCALENDAR
