BEGIN:VCALENDAR
VERSION:2.0
PRODID:SchoolNow
CALSCALE:GREGORIAN
BEGIN:VEVENT
UID:f8ad8da2-c116-11f0-8b69-0a58a9feac02
DTSTAMP:20251216T214628Z
SUMMARY:Early Release Wednesday: 2:10 Dismissal
URL;VALUE=URI:https://www.rsu16.org/ess/calendar/8794895/early-release-wedn
 esday-2-10-dismissal
DTSTART;VALUE=DATE:20270714
DTEND;VALUE=DATE:20270715
END:VEVENT
END:VCALENDAR
