BEGIN:VCALENDAR
VERSION:2.0
PRODID:SchoolNow
CALSCALE:GREGORIAN
BEGIN:VEVENT
UID:6fa28d46-cc0b-11f0-8e64-0a58a9feac02
DTSTAMP:20251216T214628Z
SUMMARY:Early Release Wednesday: 2:10 Dismissal
URL;VALUE=URI:https://www.rsu16.org/ess/calendar/8811098/early-release-wedn
 esday-2-10-dismissal
DTSTART;VALUE=DATE:20270728
DTEND;VALUE=DATE:20270729
END:VEVENT
END:VCALENDAR
