BEGIN:VCALENDAR
VERSION:2.0
PRODID:SchoolNow
CALSCALE:GREGORIAN
BEGIN:VEVENT
UID:3126dcee-d0d3-11f0-9b78-0ef8c70f8ba5
DTSTAMP:20251216T214628Z
SUMMARY:Early Release Wednesday: 2:10 Dismissal
URL;VALUE=URI:https://www.rsu16.org/ess/calendar/8817158/early-release-wedn
 esday-2-10-dismissal
DTSTART;VALUE=DATE:20270804
DTEND;VALUE=DATE:20270805
END:VEVENT
END:VCALENDAR
