BEGIN:VCALENDAR
VERSION:2.0
PRODID:SchoolNow
CALSCALE:GREGORIAN
BEGIN:VEVENT
UID:8e51d470-cfa9-11ec-9bdc-0ad128c59c5f
DTSTAMP:20220509T152036Z
SUMMARY:Book Fair
URL;VALUE=URI:https://www.rsu16.org/mcs/calendar/3193373/book-fair
DTSTART:20220523T120500Z
DTEND:20220527T160500Z
END:VEVENT
END:VCALENDAR
