BEGIN:VCALENDAR
VERSION:2.0
PRODID:SchoolNow
CALSCALE:GREGORIAN
BEGIN:VEVENT
UID:fd4f286a-5371-11f0-b3cb-0a58a9feac02
DTSTAMP:20251216T214626Z
SUMMARY:FIRST DAY OF SCHOOL
URL;VALUE=URI:https://www.rsu16.org/pcs/calendar/8361126/first-day-of-schoo
 l
DTSTART;VALUE=DATE:20250827
DTEND;VALUE=DATE:20250828
END:VEVENT
END:VCALENDAR
