BEGIN:VCALENDAR
VERSION:2.0
PRODID:SchoolNow
CALSCALE:GREGORIAN
BEGIN:VEVENT
UID:fd4f2b80-5371-11f0-850a-0a58a9feac02
DTSTAMP:20251216T214626Z
SUMMARY:HOLIDAY\, NO SCHOOL
URL;VALUE=URI:https://www.rsu16.org/pcs/calendar/8361127/holiday-no-school
DTSTART;VALUE=DATE:20250901
DTEND;VALUE=DATE:20250902
END:VEVENT
END:VCALENDAR
