BEGIN:VCALENDAR
VERSION:2.0
PRODID:SchoolNow
CALSCALE:GREGORIAN
BEGIN:VEVENT
UID:fd4f2dc4-5371-11f0-85be-0a58a9feac02
DTSTAMP:20251216T214626Z
SUMMARY:NO SCHOOL FOR STUDENTS
URL;VALUE=URI:https://www.rsu16.org/pcs/calendar/8361129/no-school-for-stud
 ents
DTSTART;VALUE=DATE:20251010
DTEND;VALUE=DATE:20251011
END:VEVENT
END:VCALENDAR
