BEGIN:VCALENDAR
VERSION:2.0
PRODID:SchoolNow
CALSCALE:GREGORIAN
BEGIN:VEVENT
UID:fd4f2eb4-5371-11f0-9c2d-0a58a9feac02
DTSTAMP:20251216T214626Z
SUMMARY:HOLIDAY\,  NO SCHOOL
URL;VALUE=URI:https://www.rsu16.org/pcs/calendar/8361130/holiday-no-school
DTSTART;VALUE=DATE:20251111
DTEND;VALUE=DATE:20251112
END:VEVENT
END:VCALENDAR
