BEGIN:VCALENDAR
VERSION:2.0
PRODID:SchoolNow
CALSCALE:GREGORIAN
BEGIN:VEVENT
UID:fd4f2fa4-5371-11f0-8d4e-0a58a9feac02
DTSTAMP:20251216T214626Z
SUMMARY:NO SCHOOL
URL;VALUE=URI:https://www.rsu16.org/pcs/calendar/8361131/no-school
DTSTART;VALUE=DATE:20251126
DTEND;VALUE=DATE:20251127
END:VEVENT
END:VCALENDAR
