BEGIN:VCALENDAR
VERSION:2.0
PRODID:SchoolNow
CALSCALE:GREGORIAN
BEGIN:VEVENT
UID:fd4f37e2-5371-11f0-a1ee-0a58a9feac02
DTSTAMP:20251216T214626Z
SUMMARY:NO SCHOOL
URL;VALUE=URI:https://www.rsu16.org/pcs/calendar/8361140/no-school
DTSTART;VALUE=DATE:20251230
DTEND;VALUE=DATE:20251231
END:VEVENT
END:VCALENDAR
