BEGIN:VCALENDAR
VERSION:2.0
PRODID:SchoolNow
CALSCALE:GREGORIAN
BEGIN:VEVENT
UID:fd4f3b52-5371-11f0-b1b4-0a58a9feac02
DTSTAMP:20251216T214626Z
SUMMARY:HOLIDAY\, NO SCHOOL
URL;VALUE=URI:https://www.rsu16.org/pcs/calendar/8361144/holiday-no-school
DTSTART;VALUE=DATE:20260119
DTEND;VALUE=DATE:20260120
END:VEVENT
END:VCALENDAR
