BEGIN:VCALENDAR
VERSION:2.0
PRODID:SchoolNow
CALSCALE:GREGORIAN
BEGIN:VEVENT
UID:fd4f3c24-5371-11f0-8efa-0a58a9feac02
DTSTAMP:20251216T214626Z
SUMMARY:NO SCHOOL FOR STUDENTS
URL;VALUE=URI:https://www.rsu16.org/pcs/calendar/8361145/no-school-for-stud
 ents
DTSTART;VALUE=DATE:20260126
DTEND;VALUE=DATE:20260127
END:VEVENT
END:VCALENDAR
