BEGIN:VCALENDAR
VERSION:2.0
PRODID:SchoolNow
CALSCALE:GREGORIAN
BEGIN:VEVENT
UID:fd4f3cf6-5371-11f0-81db-0a58a9feac02
DTSTAMP:20251216T214626Z
SUMMARY:NO SCHOOL
URL;VALUE=URI:https://www.rsu16.org/pcs/calendar/8361146/no-school
DTSTART;VALUE=DATE:20260216
DTEND;VALUE=DATE:20260217
END:VEVENT
END:VCALENDAR
