BEGIN:VCALENDAR
VERSION:2.0
PRODID:SchoolNow
CALSCALE:GREGORIAN
BEGIN:VEVENT
UID:fd4f4624-5371-11f0-9d8a-0a58a9feac02
DTSTAMP:20251216T214626Z
SUMMARY:HOLIDAY\, NO SCHOOL
URL;VALUE=URI:https://www.rsu16.org/pcs/calendar/8361157/holiday-no-school
DTSTART;VALUE=DATE:20260525
DTEND;VALUE=DATE:20260526
END:VEVENT
END:VCALENDAR
