BEGIN:VCALENDAR
VERSION:2.0
PRODID:SchoolNow
CALSCALE:GREGORIAN
BEGIN:VEVENT
UID:fd4f4700-5371-11f0-b693-0a58a9feac02
DTSTAMP:20251216T214626Z
SUMMARY:LAST DAY OF SCHOOL\, NOON DISMISSAL
URL;VALUE=URI:https://www.rsu16.org/pcs/calendar/8361158/last-day-of-school
 -noon-dismissal
DTSTART;VALUE=DATE:20260612
DTEND;VALUE=DATE:20260613
END:VEVENT
END:VCALENDAR
