BEGIN:VCALENDAR
VERSION:2.0
PRODID:SchoolNow
CALSCALE:GREGORIAN
BEGIN:VEVENT
UID:f05afe48-67f5-11f0-8e61-025f99aba227
DTSTAMP:20251216T214626Z
SUMMARY:PRE K Orientation Day
URL;VALUE=URI:https://www.rsu16.org/pcs/calendar/8440593/pre-k-orientation-
 day
DTSTART;VALUE=DATE:20250904
DTEND;VALUE=DATE:20250905
END:VEVENT
END:VCALENDAR
