BEGIN:VCALENDAR
VERSION:2.0
PRODID:SchoolNow
CALSCALE:GREGORIAN
BEGIN:VEVENT
UID:f05b017c-67f5-11f0-ab21-025f99aba227
DTSTAMP:20251216T214626Z
SUMMARY:First Day for PreK students
URL;VALUE=URI:https://www.rsu16.org/pcs/calendar/8440594/first-day-for-prek
 -students
DTSTART;VALUE=DATE:20250905
DTEND;VALUE=DATE:20250906
END:VEVENT
END:VCALENDAR
