BEGIN:VCALENDAR
VERSION:2.0
PRODID:SchoolNow
CALSCALE:GREGORIAN
BEGIN:VEVENT
UID:f05b02b2-67f5-11f0-b173-025f99aba227
DTSTAMP:20251216T214626Z
SUMMARY:SCHOOL PICTURE DAY
URL;VALUE=URI:https://www.rsu16.org/pcs/calendar/8440595/school-picture-day
DTSTART;VALUE=DATE:20250925
DTEND;VALUE=DATE:20250926
END:VEVENT
END:VCALENDAR
