BEGIN:VCALENDAR
VERSION:2.0
PRODID:SchoolNow
CALSCALE:GREGORIAN
BEGIN:VEVENT
UID:726eacb8-721e-11f0-a4f7-0afffbdf1ab3
DTSTAMP:20251216T214626Z
SUMMARY:PCS PTA Meeting\, Ricker Library
URL;VALUE=URI:https://www.rsu16.org/pcs/calendar/8472609/pcs-pta-meeting-ri
 cker-library
DTSTART:20251014T230000Z
DTEND:20251015T000000Z
END:VEVENT
END:VCALENDAR
