BEGIN:VCALENDAR
VERSION:2.0
PRODID:SchoolNow
CALSCALE:GREGORIAN
BEGIN:VEVENT
UID:726eadf8-721e-11f0-90a3-0afffbdf1ab3
DTSTAMP:20251216T214626Z
SUMMARY:PCS PTA Meeting\, Ricker Library
URL;VALUE=URI:https://www.rsu16.org/pcs/calendar/8472610/pcs-pta-meeting-ri
 cker-library
DTSTART:20251119T000000Z
DTEND:20251119T010000Z
END:VEVENT
END:VCALENDAR
