BEGIN:VCALENDAR
VERSION:2.0
PRODID:SchoolNow
CALSCALE:GREGORIAN
BEGIN:VEVENT
UID:726eb1cc-721e-11f0-8143-0afffbdf1ab3
DTSTAMP:20251216T214626Z
SUMMARY:PCS PTA Meeting\, Ricker Library
URL;VALUE=URI:https://www.rsu16.org/pcs/calendar/8472614/pcs-pta-meeting-ri
 cker-library
DTSTART;VALUE=DATE:20260310
DTEND;VALUE=DATE:20260311
END:VEVENT
END:VCALENDAR
