BEGIN:VCALENDAR
VERSION:2.0
PRODID:SchoolNow
CALSCALE:GREGORIAN
BEGIN:VEVENT
UID:726eb488-721e-11f0-8a88-0afffbdf1ab3
DTSTAMP:20251216T214626Z
SUMMARY:PCS PTA Meeting\, Ricker Library
URL;VALUE=URI:https://www.rsu16.org/pcs/calendar/8472617/pcs-pta-meeting-ri
 cker-library
DTSTART:20260609T230000Z
DTEND:20260610T000000Z
END:VEVENT
END:VCALENDAR
