BEGIN:VCALENDAR
VERSION:2.0
PRODID:SchoolNow
CALSCALE:GREGORIAN
BEGIN:VEVENT
UID:726eb56e-721e-11f0-b1f5-0afffbdf1ab3
DTSTAMP:20251216T214626Z
SUMMARY:PCS PTA PreK Popsicle Social @ PCS
URL;VALUE=URI:https://www.rsu16.org/pcs/calendar/8472618/pcs-pta-prek-popsi
 cle-social-pcs
DTSTART:20250822T213000Z
DTEND:20250822T223000Z
END:VEVENT
END:VCALENDAR
