BEGIN:VCALENDAR
VERSION:2.0
PRODID:SchoolNow
CALSCALE:GREGORIAN
BEGIN:VEVENT
UID:726eb73a-721e-11f0-a9a0-0afffbdf1ab3
DTSTAMP:20251216T214626Z
SUMMARY:PCS PTA Grade 1 Popsicle Social @ PCS
URL;VALUE=URI:https://www.rsu16.org/pcs/calendar/8472620/pcs-pta-grade-1-po
 psicle-social-pcs
DTSTART:20250820T220000Z
DTEND:20250820T230000Z
END:VEVENT
END:VCALENDAR
