BEGIN:VCALENDAR
VERSION:2.0
PRODID:SchoolNow
CALSCALE:GREGORIAN
BEGIN:VEVENT
UID:726eb906-721e-11f0-831c-0afffbdf1ab3
DTSTAMP:20251216T214626Z
SUMMARY:PCS PTA Grade 3 Popsicle Social @ PCS
URL;VALUE=URI:https://www.rsu16.org/pcs/calendar/8472622/pcs-pta-grade-3-po
 psicle-social-pcs
DTSTART:20250821T220000Z
DTEND:20250821T230000Z
END:VEVENT
END:VCALENDAR
