BEGIN:VCALENDAR
VERSION:2.0
PRODID:SchoolNow
CALSCALE:GREGORIAN
BEGIN:VEVENT
UID:726ebac8-721e-11f0-87a1-0afffbdf1ab3
DTSTAMP:20251216T214626Z
SUMMARY:PCS PTA Grade 5 Popsicle Social @ PCS
URL;VALUE=URI:https://www.rsu16.org/pcs/calendar/8472624/pcs-pta-grade-5-po
 psicle-social-pcs
DTSTART:20250826T213000Z
DTEND:20250826T223000Z
END:VEVENT
END:VCALENDAR
